BEGIN:VCALENDAR
VERSION:2.0
PRODID:icalendar-ruby
CALSCALE:GREGORIAN
METHOD:PUBLISH
BEGIN:VEVENT
DTSTAMP:20260423T020543Z
UID:57-554089@fpcwinc.org
DTSTART;VALUE=DATE:20270608
DTEND;VALUE=DATE:20270608
CLASS:PUBLIC
CREATED:20260418T151440
DESCRIPTION:Every 2nd Tuesday\, FPC provides volunteers! Come and share an
  evening volunteering with the Highland Food Pantry.  This is for anyone 
 aged 14 or older.  It's a great time to connect with other FPC friends an
 d serve families in our community. \n5:45 - 7:45 pm\nQuestions? Please co
 ntact Jenny Callis 
LAST-MODIFIED:20260418T151440
LOCATION:Highland Food Pantry
SUMMARY:Highland Food Pantry
URL;VALUE=URI:https://www.fpcwinc.org/events/highland-food-pantry--57/2027-
 06-08
ATTACH;FILENAME=Website-dimensions-for-tithely-events-2-%285%29.png;FMTTYPE
 =image/png:https://dq5pwpg1q8ru0.cloudfront.net/2024/02/29/17/51/46/2f8a54
 f5-f51d-4ee6-9213-5c5865544d4f/Website-dimensions-for-tithely-events-2-%25
 285%2529.png
END:VEVENT
END:VCALENDAR
